BEGIN:VCALENDAR
VERSION:2.0
PRODID:-//U.S. Immigration Fund - EB-5 Regional Center Operator - ECPv6.6.4.2//NONSGML v1.0//EN
CALSCALE:GREGORIAN
METHOD:PUBLISH
X-WR-CALNAME:U.S. Immigration Fund - EB-5 Regional Center Operator
X-ORIGINAL-URL:https://visaeb-5.com
X-WR-CALDESC:Events for U.S. Immigration Fund - EB-5 Regional Center Operator
REFRESH-INTERVAL;VALUE=DURATION:PT1H
X-Robots-Tag:noindex
X-PUBLISHED-TTL:PT1H
BEGIN:VTIMEZONE
TZID:UTC
BEGIN:STANDARD
TZOFFSETFROM:+0000
TZOFFSETTO:+0000
TZNAME:UTC
DTSTART:20190101T000000
END:STANDARD
END:VTIMEZONE
BEGIN:VEVENT
DTSTART;VALUE=DATE:20220601
DTEND;VALUE=DATE:20220602
DTSTAMP:20260424T114004
CREATED:20220512T194038Z
LAST-MODIFIED:20230416T211257Z
UID:28877-1654041600-1654127999@visaeb-5.com
SUMMARY:Webinar Week 3: Visa bulletin announced for June 2022
DESCRIPTION:Please join us for a webinar on June 1st to learn how you and your family can immigrate to the United States through the EB-5 program. \nWHY EB-5? (May 25) \n\n\n\nWebinar: Nicholas\nHow EB-5 works\, program basics and recent changes and updates to the program\nUSIF history and track record\, our knowledge of EB-5 and experience\nSuccess stories
URL:https://visaeb-5.com/event/why-choose-eb5-2-2/
CATEGORIES:Seminars,USIF Events
ATTACH;FMTTYPE=image/jpeg:https://visaeb-5.com/wp-content/uploads/2022/05/Copy-of-USIF-Event-Sign-Up.jpg
END:VEVENT
BEGIN:VEVENT
DTSTART;VALUE=DATE:20220601
DTEND;VALUE=DATE:20220602
DTSTAMP:20260424T114004
CREATED:20220512T194001Z
LAST-MODIFIED:20230416T211257Z
UID:28875-1654041600-1654127999@visaeb-5.com
SUMMARY:Webinar Week 2: EB-5 Program Updates and USIF Track Record
DESCRIPTION:Please join us for a webinar on June 1st to learn how you and your family can immigrate to the United States through the EB-5 program. \nWHY EB-5? (May 25) \n\n\n\nWebinar: Nicholas\nHow EB-5 works\, program basics and recent changes and updates to the program\nUSIF history and track record\, our knowledge of EB-5 and experience\nSuccess stories
URL:https://visaeb-5.com/event/why-choose-eb5-2/
CATEGORIES:Seminars,USIF Events
ATTACH;FMTTYPE=image/jpeg:https://visaeb-5.com/wp-content/uploads/2022/05/Copy-of-USIF-Event-Sign-Up.jpg
END:VEVENT
BEGIN:VEVENT
DTSTART;VALUE=DATE:20220525
DTEND;VALUE=DATE:20220526
DTSTAMP:20260424T114004
CREATED:20220512T185328Z
LAST-MODIFIED:20230416T211251Z
UID:28869-1653436800-1653523199@visaeb-5.com
SUMMARY:Webinar 1: WHY EB-5?
DESCRIPTION:Please join us for a webinar on May 25th to learn how you and your family can immigrate to the United States through the EB-5 program. \nWHY EB-5? (May 25) \n\n\n\nWebinar: Nicholas\nHow EB-5 works\, program basics and recent changes and updates to the program\nUSIF history and track record\, our knowledge of EB-5 and experience\nSuccess stories
URL:https://visaeb-5.com/event/why-choose-eb5/
CATEGORIES:Seminars,USIF Events
ATTACH;FMTTYPE=image/jpeg:https://visaeb-5.com/wp-content/uploads/2022/05/Copy-of-USIF-Event-Sign-Up.jpg
END:VEVENT
BEGIN:VEVENT
DTSTART;VALUE=DATE:20190906
DTEND;VALUE=DATE:20190907
DTSTAMP:20260424T114004
CREATED:20190302T021115Z
LAST-MODIFIED:20190302T061339Z
UID:27734-1567728000-1567814399@visaeb-5.com
SUMMARY:2019 EB-5 Expo: Ho Chi Minh City
DESCRIPTION:
URL:https://visaeb-5.com/event/2019-eb-5-expo-ho-chi-minh-city-2/
LOCATION:Park Hyatt Saigon\, Ho Chi Minh City\, Viet Nam
CATEGORIES:Seminars,USIF Events
ATTACH;FMTTYPE=image/jpeg:https://visaeb-5.com/wp-content/uploads/2019/02/2019-eb-5-uglobal-immigration-expo-hcmc-banner.jpg
END:VEVENT
BEGIN:VEVENT
DTSTART;VALUE=DATE:20190601
DTEND;VALUE=DATE:20190602
DTSTAMP:20260424T114004
CREATED:20190304T212426Z
LAST-MODIFIED:20230416T211042Z
UID:27761-1559347200-1559433599@visaeb-5.com
SUMMARY:2019 EB-5 Expo: Mumbai
DESCRIPTION:  \nJune 1\, 2019 \nSt. Regis Mumbai \n462\, Tulsi Pipe Rd\, Gandhi Nagar\, Upper Worli\, Lower Parel\, Mumbai\, Maharashtra 400013 \nBook your room today at a discounted rate offer by EB5 Investors Magazine. \nAs the number of Indian investors receiving EB-5 conditional green cards tripled in 2018\, India continues to be a strong source of high-net-worth investors to the EB-5 industry. Responding to the market prosperity in India\, EB5 Investors Magazine is proud to announce the 2019 EB-5 Expo Mumbai on June 1. \nThis event attracts migration agencies\, immigration attorneys\, EB-5 service providers\, regional centers and project developers from across the world. Our educational panels moderated by industry experts will provide valuable insight about United States’ EB-5 Immigrant Investor program. The event will also feature business exhibits and a myriad of networking opportunities.  \nWe invite anyone interested in expanding their global business network while learning about the EB-5 market to join us at this expo.   \nWho will attend this event? \n\nHigh-net-worth individuals\nInternational migration agents\nRegional centers\nProject developers\nImmigration and securities attorneys\nBroker-dealers and many other industry service providers  
URL:https://visaeb-5.com/event/2019-eb-5-expo-ho-chi-minh-city-2-2/
LOCATION:The St. Regis Mumbai\, Mumbai\, India
CATEGORIES:Seminars,USIF Events
ATTACH;FMTTYPE=image/jpeg:https://visaeb-5.com/wp-content/uploads/2019/03/2019-mumbai-spring_banner-v1.jpg
END:VEVENT
BEGIN:VEVENT
DTSTART;TZID=UTC:20190420T160000
DTEND;TZID=UTC:20190420T180000
DTSTAMP:20260424T114004
CREATED:20190313T201849Z
LAST-MODIFIED:20230416T211046Z
UID:27816-1555776000-1555783200@visaeb-5.com
SUMMARY:EB-5  Visa Seminar in Dubai - Learn about Immigration to the U.S
DESCRIPTION:U.S. Immigration Fund brings you an excellent opportunity to Attend Top Schools\, Live & Work in the U.S.\nDid you know that 6\,000+ families are successfully investing with U.S. Immigration Fund\, a leading EB-5 Regional Center Operator\, to achieve these dreams currently?\nAttend this seminar to learn how a $500\,000 investment allows you & your family the opportunity to become United States residents experiencing a myriad of business\, education\, career and residential opportunities.\n\n SIGN UP HERE  
URL:https://visaeb-5.com/event/2019-eb-5-expo-ho-chi-minh-city-2-3-2-2/
LOCATION:JW Marriott Marquis Hotel Dubai\, Sheikh Zayed Road\, Business Bay\, Dubai\, 121000\, United Arab Emirates
CATEGORIES:Seminars,USIF Events
ATTACH;FMTTYPE=image/jpeg:https://visaeb-5.com/wp-content/uploads/2019/01/america-ancient-architecture-356844.jpg
END:VEVENT
BEGIN:VEVENT
DTSTART;TZID=UTC:20190414T160000
DTEND;TZID=UTC:20190414T180000
DTSTAMP:20260424T114004
CREATED:20190313T022134Z
LAST-MODIFIED:20230416T211046Z
UID:27796-1555257600-1555264800@visaeb-5.com
SUMMARY:EB-5 Visa Seminar in Delhi - Learn about Immigration to the U.S
DESCRIPTION:U.S. Immigration Fund brings you an excellent opportunity to Attend Top Schools\, Live & Work in the U.S.\nDid you know that 6\,000+ families are successfully investing with U.S. Immigration Fund\, a leading EB-5 Regional Center Operator\, to achieve these dreams currently?\nAttend this seminar to learn how a $500\,000 investment allows you & your family the opportunity to become United States residents experiencing a myriad of business\, education\, career and residential opportunities.\nAs a result of increasing awareness about the EB-5 Program\, it is expected that the number of Indians applying will be more than double this year.\n  \n SIGN UP HERE  
URL:https://visaeb-5.com/event/2019-eb-5-expo-ho-chi-minh-city-2-3/
LOCATION:JW Marriott Delhi\, India
CATEGORIES:Seminars,USIF Events
ATTACH;FMTTYPE=image/jpeg:https://visaeb-5.com/wp-content/uploads/2019/01/america-ancient-architecture-356844.jpg
END:VEVENT
BEGIN:VEVENT
DTSTART;TZID=UTC:20190406T160000
DTEND;TZID=UTC:20190406T180000
DTSTAMP:20260424T114004
CREATED:20190313T203100Z
LAST-MODIFIED:20230416T211046Z
UID:27820-1554566400-1554573600@visaeb-5.com
SUMMARY:EB-5 Visa Seminar in Mumbai - Learn about Immigration to the U.S
DESCRIPTION:U.S. Immigration Fund brings you an excellent opportunity to Attend Top Schools\, Live & Work in the U.S. \nDid you know that 6\,000+ families are successfully investing with U.S. Immigration Fund\, a leading EB-5 Regional Center Operator\, to achieve these dreams currently? \nAttend this seminar to learn how a $500\,000 investment allows you & your family the opportunity to become United States residents experiencing a myriad of business\, education\, career and residential opportunities. \n  \n SIGN UP HERE  
URL:https://visaeb-5.com/event/2019-eb-5-expo-ho-chi-minh-city-2-3-2/
LOCATION:St. Regis Mumbai\, 462\, Senapati Bapat Marg\, Lower Parel\, Mumbai\, Maharashtra\, 400013\, India
CATEGORIES:Seminars,USIF Events
ATTACH;FMTTYPE=image/jpeg:https://visaeb-5.com/wp-content/uploads/2019/01/america-ancient-architecture-356844.jpg
END:VEVENT
BEGIN:VEVENT
DTSTART;VALUE=DATE:20190314
DTEND;VALUE=DATE:20190316
DTSTAMP:20260424T114004
CREATED:20190215T200832Z
LAST-MODIFIED:20190302T061344Z
UID:27620-1552521600-1552694399@visaeb-5.com
SUMMARY:2019 EB-5 Expo: Ho Chi Minh City
DESCRIPTION:
URL:https://visaeb-5.com/event/2019-eb-5-expo-ho-chi-minh-city/
LOCATION:Park Hyatt Saigon\, Ho Chi Minh City\, Viet Nam
CATEGORIES:Seminars,USIF Events
ATTACH;FMTTYPE=image/jpeg:https://visaeb-5.com/wp-content/uploads/2019/02/2019-eb-5-uglobal-immigration-expo-hcmc-banner.jpg
END:VEVENT
END:VCALENDAR